BEGIN:VCALENDAR
VERSION:2.0
CALSCALE:GREGORIAN
PRODID:-//Diputació de Barcelona//DibaCMS//EN
BEGIN:VEVENT
UID:22085
DTSTAMP:20260424T192312
DTSTART:20231203T183000
DTEND:20231203T183000
SUMMARY:Teatre familiar: "Soc una nou"
LOCATION:Av. de Pau Casals, 16 08755 Castellbisbal
METHOD:PUBLISH
X-WR-CALNAME:comunicacio@castellbisbal.cat
X-WR-TIMEZONE:Europe/Madrid
DESCRIPTION:A les 18.30 hores, a l'auditori d'Els Costals

URI:https://www.castellbisbal.cat/actualitat/agenda/teatre-familiar-soc-una-nou.html
CLASS:PUBLIC
END:VEVENT
END:VCALENDAR
