BEGIN:VCALENDAR
VERSION:2.0
CALSCALE:GREGORIAN
PRODID:-//Diputació de Barcelona//DibaCMS//EN
BEGIN:VEVENT
UID:22094
DTSTAMP:20260424T125942
DTSTART:20231019T190000
DTEND:20231019T190000
SUMMARY:Conferència: "Pau Casals: una vida per la música, la llibertat i Catalunya"
LOCATION:Av. de Pau Casals, 16 08755 Castellbisbal
METHOD:PUBLISH
X-WR-CALNAME:comunicacio@castellbisbal.cat
X-WR-TIMEZONE:Europe/Madrid
DESCRIPTION:A les 19.00 hores, a l'Espai Montserrat Roig d'Els Costals

URI:https://www.castellbisbal.cat/actualitat/agenda/conferencia-pau-casals-una-vida-per-la-musica-la-llibertat-i-catalunya.html
CLASS:PUBLIC
END:VEVENT
END:VCALENDAR
