BEGIN:VCALENDAR
VERSION:2.0
CALSCALE:GREGORIAN
PRODID:-//Diputació de Barcelona//DibaCMS//EN
BEGIN:VEVENT
UID:22095
DTSTAMP:20260424T160959
DTSTART:20231102T190000
DTEND:20231102T190000
SUMMARY:Conferència: Si la llengua falla, fallarà tot
LOCATION:Av. de Pau Casals, 16 08755 Castellbisbal
METHOD:PUBLISH
X-WR-CALNAME:comunicacio@castellbisbal.cat
X-WR-TIMEZONE:Europe/Madrid
DESCRIPTION:A les 19.00 hores, a l'Espai Montserrat Roig d'Els Costals

URI:https://www.castellbisbal.cat/actualitat/agenda/conferencia-si-la-llengua-falla-fallara-tot.html
CLASS:PUBLIC
END:VEVENT
END:VCALENDAR
