BEGIN:VCALENDAR
VERSION:2.0
CALSCALE:GREGORIAN
PRODID:-//Diputació de Barcelona//DibaCMS//EN
BEGIN:VEVENT
UID:22096
DTSTAMP:20260423T174543
DTSTART:20231116T190000
DTEND:20231116T190000
SUMMARY:Conferència: "Espectacles de la natura amb mirada científica: La Bellesa del Cosmos"
LOCATION:Av. de Pau Casals, 16 08755 Castellbisbal
METHOD:PUBLISH
X-WR-CALNAME:comunicacio@castellbisbal.cat
X-WR-TIMEZONE:Europe/Madrid
DESCRIPTION:A les 19.00 hores, a l'Espai Montserrat Roig d'Els Costals

URI:https://www.castellbisbal.cat/actualitat/agenda/conferencia-espectacles-de-la-natura-amb-mirada-cientifica-la-bellesa-del-cosmos.html
CLASS:PUBLIC
END:VEVENT
END:VCALENDAR
