BEGIN:VCALENDAR
VERSION:2.0
CALSCALE:GREGORIAN
PRODID:-//Diputació de Barcelona//DibaCMS//EN
BEGIN:VEVENT
UID:22101
DTSTAMP:20260424T082231
DTSTART:20240111T170000
DTEND:20240127T140000
SUMMARY:Exposició: "Transitar, orientant-se en un món canviant"
LOCATION:Av. de Pau Casals, 16 08755 Castellbisbal
METHOD:PUBLISH
X-WR-CALNAME:comunicacio@castellbisbal.cat
X-WR-TIMEZONE:Europe/Madrid
DESCRIPTION:De l'11 al 27 de gener, a la sala d'exposicions d'Els Costals

URI:https://www.castellbisbal.cat/actualitat/agenda/exposicio-transitar-orientant-se-en-un-mon-canviant.html
CLASS:PUBLIC
END:VEVENT
END:VCALENDAR
