BEGIN:VCALENDAR
VERSION:2.0
CALSCALE:GREGORIAN
PRODID:-//Diputació de Barcelona//DibaCMS//EN
BEGIN:VEVENT
UID:22102
DTSTAMP:20260421T123250
DTSTART:20231021T100000
DTEND:20231021T100000
SUMMARY:Ruta de records d'oficis i quotidianitat
LOCATION:Plaça de Lluís Companys 08755 Castellbisbal
METHOD:PUBLISH
X-WR-CALNAME:comunicacio@castellbisbal.cat
X-WR-TIMEZONE:Europe/Madrid
DESCRIPTION:Sortida a les 10.00 hores, de la plaça de Lluís Companys

URI:https://www.castellbisbal.cat/actualitat/agenda/ruta-de-records-doficis-i-quotidianitat.html
CLASS:PUBLIC
END:VEVENT
END:VCALENDAR
