BEGIN:VCALENDAR
VERSION:2.0
CALSCALE:GREGORIAN
PRODID:-//Diputació de Barcelona//DibaCMS//EN
BEGIN:VEVENT
UID:22103
DTSTAMP:20260421T123153
DTSTART:20231021T120000
DTEND:20231021T120000
SUMMARY:Activitats i tallers de records d'oficis i quotidianitat
LOCATION:Plaça del Joc 08755 Castellbisbal
METHOD:PUBLISH
X-WR-CALNAME:comunicacio@castellbisbal.cat
X-WR-TIMEZONE:Europe/Madrid
DESCRIPTION:De 12.00 a 14.00 hores, a la plaça del Joc

URI:https://www.castellbisbal.cat/actualitat/agenda/activitats-i-tallers-de-records-doficis-i-quotidianitat.html
CLASS:PUBLIC
END:VEVENT
END:VCALENDAR
