BEGIN:VCALENDAR
VERSION:2.0
CALSCALE:GREGORIAN
PRODID:-//Diputació de Barcelona//DibaCMS//EN
BEGIN:VEVENT
UID:22104
DTSTAMP:20260424T174949
DTSTART:20231111T180000
DTEND:20231111T180000
SUMMARY:XIX La Nocturna
LOCATION:Parc Folch i Torres 08755 Castellbisbal
METHOD:PUBLISH
X-WR-CALNAME:comunicacio@castellbisbal.cat
X-WR-TIMEZONE:Europe/Madrid
DESCRIPTION:Sortida a les 18.00 hores, de la plaça de Folch i Torres

URI:https://www.castellbisbal.cat/actualitat/agenda/xix-la-nocturna.html
CLASS:PUBLIC
END:VEVENT
END:VCALENDAR
