BEGIN:VCALENDAR
VERSION:2.0
CALSCALE:GREGORIAN
PRODID:-//Diputació de Barcelona//DibaCMS//EN
BEGIN:VEVENT
UID:22111
DTSTAMP:20260424T045505
DTSTART:20231021T100000
DTEND:20231021T140000
SUMMARY:Exposició "L'abans: oficis i quotidianitat a Castellbisbal"
LOCATION:Carrer Pi i Margall, 13 08755 Castellbisbal
METHOD:PUBLISH
X-WR-CALNAME:comunicacio@castellbisbal.cat
X-WR-TIMEZONE:Europe/Madrid
DESCRIPTION:Durant tot el matí, a la sala d'exposicions temporals del Museu de la Pagesia

URI:https://www.castellbisbal.cat/actualitat/agenda/exposicio-labans-oficis-i-quotidianitat-a-castellbisbal.html
CLASS:PUBLIC
END:VEVENT
END:VCALENDAR
