BEGIN:VCALENDAR
VERSION:2.0
CALSCALE:GREGORIAN
PRODID:-//Diputació de Barcelona//DibaCMS//EN
BEGIN:VEVENT
UID:22120
DTSTAMP:20260423T160925
DTSTART:20231031T180000
DTEND:20231031T180000
SUMMARY:Túnel del terror
LOCATION:C. de Sant Mateu, 20 08755 Castellbisbal
METHOD:PUBLISH
X-WR-CALNAME:comunicacio@castellbisbal.cat
X-WR-TIMEZONE:Europe/Madrid
DESCRIPTION:De 18.00 a 23.00 hores, a l'Escola Benviure

URI:https://www.castellbisbal.cat/actualitat/agenda/22120-tunel-del-terror.html
CLASS:PUBLIC
END:VEVENT
END:VCALENDAR
