BEGIN:VCALENDAR
VERSION:2.0
CALSCALE:GREGORIAN
PRODID:-//Diputació de Barcelona//DibaCMS//EN
BEGIN:VEVENT
UID:22121
DTSTAMP:20260424T124350
DTSTART:20231022T180000
DTEND:20231022T180000
SUMMARY:Presentació temporada del Club Bàsquet Castellbisbal
LOCATION:C. Agricultura, s/n 08755 Castellbisbal
METHOD:PUBLISH
X-WR-CALNAME:comunicacio@castellbisbal.cat
X-WR-TIMEZONE:Europe/Madrid
DESCRIPTION:A les 18.00 hores, a l'Illa Esportiva

URI:https://www.castellbisbal.cat/actualitat/agenda/presentacio-temporada-del-club-basquet-castellbisbal.html
CLASS:PUBLIC
END:VEVENT
END:VCALENDAR
