BEGIN:VCALENDAR
VERSION:2.0
CALSCALE:GREGORIAN
PRODID:-//Diputació de Barcelona//DibaCMS//EN
BEGIN:VEVENT
UID:22122
DTSTAMP:20260424T110256
DTSTART:20231023T163000
DTEND:20231027T200000
SUMMARY:Venda de castanyes per part de l'alumnat de 6è de l'Escola Benviure
LOCATION:08755 Castellbisbal
METHOD:PUBLISH
X-WR-CALNAME:comunicacio@castellbisbal.cat
X-WR-TIMEZONE:Europe/Madrid
DESCRIPTION:Les tardes del 23 al 27 d'octubre, a la Plaça de l'Església

URI:https://www.castellbisbal.cat/actualitat/agenda/venda-de-castanyes-per-part-de-lalumnat-de-6e-de-lescola-benviure.html
CLASS:PUBLIC
END:VEVENT
END:VCALENDAR
