BEGIN:VCALENDAR
VERSION:2.0
CALSCALE:GREGORIAN
PRODID:-//Diputació de Barcelona//DibaCMS//EN
BEGIN:VEVENT
UID:22124
DTSTAMP:20260424T192245
DTSTART:20231031T170000
DTEND:20231031T170000
SUMMARY:Castanyada Jove: Circuit Xtreme Race
LOCATION:Parc Folch i Torres 08755 Castellbisbal
METHOD:PUBLISH
X-WR-CALNAME:comunicacio@castellbisbal.cat
X-WR-TIMEZONE:Europe/Madrid
DESCRIPTION:De 17.00 a 20.00 hores, al parc Folch i Torres

URI:https://www.castellbisbal.cat/actualitat/agenda/castanyada-jove-circuit-xtreme-race.html
CLASS:PUBLIC
END:VEVENT
END:VCALENDAR
