BEGIN:VCALENDAR
VERSION:2.0
CALSCALE:GREGORIAN
PRODID:-//Diputació de Barcelona//DibaCMS//EN
BEGIN:VEVENT
UID:22125
DTSTAMP:20260425T012445
DTSTART:20231031T220000
DTEND:20231031T220000
SUMMARY:Castanyada Jove: Sessió de DJ
LOCATION:Parc Folch i Torres 08755 Castellbisbal
METHOD:PUBLISH
X-WR-CALNAME:comunicacio@castellbisbal.cat
X-WR-TIMEZONE:Europe/Madrid
DESCRIPTION:De 22.00 a 02.00 hores, al parc Folch i Torres

URI:https://www.castellbisbal.cat/actualitat/agenda/castanyada-jove-sessio-de-dj.html
CLASS:PUBLIC
END:VEVENT
END:VCALENDAR
