BEGIN:VCALENDAR
VERSION:2.0
CALSCALE:GREGORIAN
PRODID:-//Diputació de Barcelona//DibaCMS//EN
BEGIN:VEVENT
UID:22155
DTSTAMP:20260424T234442
DTSTART:20231031T180000
DTEND:20231031T180000
SUMMARY:CastaHalloween a Santa Teresita
LOCATION:Parc de Santa Teresita 
METHOD:PUBLISH
X-WR-CALNAME:comunicacio@castellbisbal.cat
X-WR-TIMEZONE:Europe/Madrid
DESCRIPTION:A les 18.00 hores, al parc de Santa Teresita

URI:https://www.castellbisbal.cat/actualitat/agenda/castahalloween-a-santa-teresita.html
CLASS:PUBLIC
END:VEVENT
END:VCALENDAR
