BEGIN:VCALENDAR
VERSION:2.0
CALSCALE:GREGORIAN
PRODID:-//Diputació de Barcelona//DibaCMS//EN
BEGIN:VEVENT
UID:22170
DTSTAMP:20260424T051025
DTSTART:20231103T190000
DTEND:20231103T190000
SUMMARY:Xerrada sobre seguretat a la llar
LOCATION:Passeig del Torrent, 18-22 08755 Castellbisbal
METHOD:PUBLISH
X-WR-CALNAME:comunicacio@castellbisbal.cat
X-WR-TIMEZONE:Europe/Madrid
DESCRIPTION:A les 19.00 hores, al local social de Costablanca

URI:https://www.castellbisbal.cat/actualitat/agenda/xerrada-sobre-seguretat-a-la-llar.html
CLASS:PUBLIC
END:VEVENT
END:VCALENDAR
