BEGIN:VCALENDAR
VERSION:2.0
CALSCALE:GREGORIAN
PRODID:-//Diputació de Barcelona//DibaCMS//EN
BEGIN:VEVENT
UID:22174
DTSTAMP:20260424T105048
DTSTART:20231103T180000
DTEND:20231103T180000
SUMMARY:Just dance
LOCATION:Carrer Francesc Macià, 64 08755 Castellbisbal
METHOD:PUBLISH
X-WR-CALNAME:comunicacio@castellbisbal.cat
X-WR-TIMEZONE:Europe/Madrid
DESCRIPTION:De 18.00 a 20.00 hores, al Racó Jove

URI:https://www.castellbisbal.cat/actualitat/agenda/just-dance.html
CLASS:PUBLIC
END:VEVENT
END:VCALENDAR
