BEGIN:VCALENDAR
VERSION:2.0
CALSCALE:GREGORIAN
PRODID:-//Diputació de Barcelona//DibaCMS//EN
BEGIN:VEVENT
UID:22181
DTSTAMP:20260425T022755
DTSTART:20231121T180000
DTEND:20231121T180000
SUMMARY:On és el límit?
LOCATION:Carrer Francesc Macià, 64 08755 Castellbisbal
METHOD:PUBLISH
X-WR-CALNAME:comunicacio@castellbisbal.cat
X-WR-TIMEZONE:Europe/Madrid
DESCRIPTION:De 18.00 a 20.00 hores, al Racó Jove

URI:https://www.castellbisbal.cat/actualitat/agenda/22181-on-es-el-limit.html
CLASS:PUBLIC
END:VEVENT
END:VCALENDAR
