BEGIN:VCALENDAR
VERSION:2.0
CALSCALE:GREGORIAN
PRODID:-//Diputació de Barcelona//DibaCMS//EN
BEGIN:VEVENT
UID:22188
DTSTAMP:20260423T112816
DTSTART:20231125T120000
DTEND:20231125T120000
SUMMARY:Conte-taller familiar: Contes km0 a càrrec de Noemí García i Moon Pamos
LOCATION:Av. de Pau Casals, 16 08755 Castellbisbal
METHOD:PUBLISH
X-WR-CALNAME:comunicacio@castellbisbal.cat
X-WR-TIMEZONE:Europe/Madrid
DESCRIPTION:A les 12.00 hores, a la Biblioteca

URI:https://www.castellbisbal.cat/actualitat/agenda/biblioteca/conte-taller-familiar-contes-km0-a-carrec-de-noemi-garcia-i-moon-pamos.html
CLASS:PUBLIC
END:VEVENT
END:VCALENDAR
