BEGIN:VCALENDAR
VERSION:2.0
CALSCALE:GREGORIAN
PRODID:-//Diputació de Barcelona//DibaCMS//EN
BEGIN:VEVENT
UID:22200
DTSTAMP:20260424T015514
DTSTART:20231105T133000
DTEND:20231105T133000
SUMMARY:Supercopa catalana de Korfbal
LOCATION:C. Agricultura, s/n 08755 Castellbisbal
METHOD:PUBLISH
X-WR-CALNAME:comunicacio@castellbisbal.cat
X-WR-TIMEZONE:Europe/Madrid
DESCRIPTION:A les 13.30 hores, a l'Illa Esportiva

URI:https://www.castellbisbal.cat/actualitat/agenda/supercopa-catalana-de-korfbal.html
CLASS:PUBLIC
END:VEVENT
END:VCALENDAR
