BEGIN:VCALENDAR
VERSION:2.0
CALSCALE:GREGORIAN
PRODID:-//Diputació de Barcelona//DibaCMS//EN
BEGIN:VEVENT
UID:22202
DTSTAMP:20260424T061226
DTSTART:20231217T140000
DTEND:20231217T140000
SUMMARY:Dinar de Nadal de la gent gran
LOCATION:Av. de Pau Casals, 7 08755 Castellbisbal
METHOD:PUBLISH
X-WR-CALNAME:comunicacio@castellbisbal.cat
X-WR-TIMEZONE:Europe/Madrid
DESCRIPTION:A les 14.00 hores, al Casal Cultural i Recreatiu

URI:https://www.castellbisbal.cat/actualitat/agenda/22202-dinar-de-nadal-de-la-gent-gran.html
CLASS:PUBLIC
END:VEVENT
END:VCALENDAR
