BEGIN:VCALENDAR
VERSION:2.0
CALSCALE:GREGORIAN
PRODID:-//Diputació de Barcelona//DibaCMS//EN
BEGIN:VEVENT
UID:22205
DTSTAMP:20260424T215808
DTSTART:20231118T100000
DTEND:20231118T100000
SUMMARY:Donació de sang
LOCATION:Av. de Pau Casals, 9 08755 Castellbisbal
METHOD:PUBLISH
X-WR-CALNAME:comunicacio@castellbisbal.cat
X-WR-TIMEZONE:Europe/Madrid
DESCRIPTION:De 10.00 a 14.00 i de 17.00 a 21.00 hores, a la sala d'actes de l'Ajuntament

URI:https://www.castellbisbal.cat/actualitat/agenda/22205-donacio-de-sang.html
CLASS:PUBLIC
END:VEVENT
END:VCALENDAR
