BEGIN:VCALENDAR
VERSION:2.0
CALSCALE:GREGORIAN
PRODID:-//Diputació de Barcelona//DibaCMS//EN
BEGIN:VEVENT
UID:22207
DTSTAMP:20260425T043518
DTSTART:20231114T110000
DTEND:20231114T110000
SUMMARY:Caminada popular
LOCATION:Av. Pau Casals, 12 08755 Castellbisbal
METHOD:PUBLISH
X-WR-CALNAME:comunicacio@castellbisbal.cat
X-WR-TIMEZONE:Europe/Madrid
DESCRIPTION:Sortida a les 11.00 hores, davant l'entrada del CAP Doctor Joan Planas

URI:https://www.castellbisbal.cat/actualitat/agenda/22207-caminada-popular.html
CLASS:PUBLIC
END:VEVENT
END:VCALENDAR
