BEGIN:VCALENDAR
VERSION:2.0
CALSCALE:GREGORIAN
PRODID:-//Diputació de Barcelona//DibaCMS//EN
BEGIN:VEVENT
UID:22208
DTSTAMP:20260423T190039
DTSTART:20231124T190000
DTEND:20231124T190000
SUMMARY:Inscripcions al XXV Rally Slot
LOCATION:Av. de Pau Casals 7 08755 Castellbisbal
METHOD:PUBLISH
X-WR-CALNAME:comunicacio@castellbisbal.cat
X-WR-TIMEZONE:Europe/Madrid
DESCRIPTION:De 19.00 a 22.00 hores, al Casal Cultural i Recreatiu

URI:https://www.castellbisbal.cat/actualitat/agenda/inscripcions-al-xxv-rally-slot.html
CLASS:PUBLIC
END:VEVENT
END:VCALENDAR
