BEGIN:VCALENDAR
VERSION:2.0
CALSCALE:GREGORIAN
PRODID:-//Diputació de Barcelona//DibaCMS//EN
BEGIN:VEVENT
UID:22209
DTSTAMP:20260424T061306
DTSTART:20231125T100000
DTEND:20231125T100000
SUMMARY:XXV Rally Slot
LOCATION:Av. de Pau Casals 7 08755 Castellbisbal
METHOD:PUBLISH
X-WR-CALNAME:comunicacio@castellbisbal.cat
X-WR-TIMEZONE:Europe/Madrid
DESCRIPTION:Matí i tarda, al Casal Cultural i Recreatiu

URI:https://www.castellbisbal.cat/actualitat/agenda/xxv-rally-slot.html
CLASS:PUBLIC
END:VEVENT
END:VCALENDAR
