BEGIN:VCALENDAR
VERSION:2.0
CALSCALE:GREGORIAN
PRODID:-//Diputació de Barcelona//DibaCMS//EN
BEGIN:VEVENT
UID:22210
DTSTAMP:20260423T171731
DTSTART:20231126T100000
DTEND:20231126T100000
SUMMARY:Finals del XXV Rally Slot
LOCATION:Av. de Pau Casals 7 08755 Castellbisbal
METHOD:PUBLISH
X-WR-CALNAME:comunicacio@castellbisbal.cat
X-WR-TIMEZONE:Europe/Madrid
DESCRIPTION:Durant el matí, al Casal Cultural i Recreatiu

URI:https://www.castellbisbal.cat/actualitat/agenda/finals-del-xxv-rally-slot.html
CLASS:PUBLIC
END:VEVENT
END:VCALENDAR
