BEGIN:VCALENDAR
VERSION:2.0
CALSCALE:GREGORIAN
PRODID:-//Diputació de Barcelona//DibaCMS//EN
BEGIN:VEVENT
UID:22211
DTSTAMP:20260424T002725
DTSTART:20231109T000000
DTEND:20231109T000000
SUMMARY:Curs de monitor/a de lleure - Intensiu de Nadal
LOCATION:Av. de Pau Casals, 16 08755 Castellbisbal
METHOD:PUBLISH
X-WR-CALNAME:comunicacio@castellbisbal.cat
X-WR-TIMEZONE:Europe/Madrid
DESCRIPTION:Del 21 de desembre de 2023 al 4 de gener de 2024, a l'Espai Caterina Albert del Centre Cultural Els Costals

URI:https://www.castellbisbal.cat/actualitat/agenda/curs-de-monitora-de-lleure-intensiu-de-nadal.html
CLASS:PUBLIC
END:VEVENT
END:VCALENDAR
