BEGIN:VCALENDAR
VERSION:2.0
CALSCALE:GREGORIAN
PRODID:-//Diputació de Barcelona//DibaCMS//EN
BEGIN:VEVENT
UID:22213
DTSTAMP:20260423T125157
DTSTART:20231221T090000
DTEND:20231221T090000
SUMMARY:Curs de monitor/a de lleure - Intensiu Nadal
LOCATION:
METHOD:PUBLISH
X-WR-CALNAME:comunicacio@castellbisbal.cat
X-WR-TIMEZONE:Europe/Madrid
DESCRIPTION:Del 21 de desembre de 2023 al 4 de gener de 2024

URI:https://www.castellbisbal.cat/actualitat/agenda/curs-de-monitora-de-lleure-intensiu-nadal.html
CLASS:PUBLIC
END:VEVENT
END:VCALENDAR
