BEGIN:VCALENDAR
VERSION:2.0
CALSCALE:GREGORIAN
PRODID:-//Diputació de Barcelona//DibaCMS//EN
BEGIN:VEVENT
UID:22216
DTSTAMP:20260424T172603
DTSTART:20231116T100000
DTEND:20231116T100000
SUMMARY:Curtmetratge: Cómplices
LOCATION:Av. de Pau Casals, 16 08755 Castellbisbal
METHOD:PUBLISH
X-WR-CALNAME:comunicacio@castellbisbal.cat
X-WR-TIMEZONE:Europe/Madrid
DESCRIPTION:Durant tot el matí, a l'auditori d'Els Costals

URI:https://www.castellbisbal.cat/actualitat/agenda/curtmetratge-complices.html
CLASS:PUBLIC
END:VEVENT
END:VCALENDAR
