BEGIN:VCALENDAR
VERSION:2.0
CALSCALE:GREGORIAN
PRODID:-//Diputació de Barcelona//DibaCMS//EN
BEGIN:VEVENT
UID:22219
DTSTAMP:20260424T202052
DTSTART:20231119T110000
DTEND:20231119T110000
SUMMARY:Celebrem els drets dels infants i dels adolescents
LOCATION:carrer de l'Olivar, 49 08755 Castellbisbal
METHOD:PUBLISH
X-WR-CALNAME:comunicacio@castellbisbal.cat
X-WR-TIMEZONE:Europe/Madrid
DESCRIPTION:A partir de les 11.00 hores, a la Plaça de les Escoles

URI:https://www.castellbisbal.cat/actualitat/agenda/celebrem-els-drets-dels-infants-i-dels-adolescents.html
CLASS:PUBLIC
END:VEVENT
END:VCALENDAR
