BEGIN:VCALENDAR
VERSION:2.0
CALSCALE:GREGORIAN
PRODID:-//Diputació de Barcelona//DibaCMS//EN
BEGIN:VEVENT
UID:22221
DTSTAMP:20260425T005730
DTSTART:20231122T170000
DTEND:20231122T170000
SUMMARY:Espai Noia
LOCATION:Carrer Francesc Macià, 64 08755 Castellbisbal
METHOD:PUBLISH
X-WR-CALNAME:comunicacio@castellbisbal.cat
X-WR-TIMEZONE:Europe/Madrid
DESCRIPTION:A les 17.00 hores, al Racó Jove

URI:https://www.castellbisbal.cat/actualitat/agenda/22221-espai-noia.html
CLASS:PUBLIC
END:VEVENT
END:VCALENDAR
