BEGIN:VCALENDAR
VERSION:2.0
CALSCALE:GREGORIAN
PRODID:-//Diputació de Barcelona//DibaCMS//EN
BEGIN:VEVENT
UID:22223
DTSTAMP:20260424T155523
DTSTART:20231123T180000
DTEND:20231123T180000
SUMMARY:Projeccions FICAC: Manoliño Nguema
LOCATION:Av. de Pau Casals, 16 08755 Castellbisbal
METHOD:PUBLISH
X-WR-CALNAME:comunicacio@castellbisbal.cat
X-WR-TIMEZONE:Europe/Madrid
DESCRIPTION:A les 18.00 hores, a l'auditori d'Els Costals

URI:https://www.castellbisbal.cat/actualitat/agenda/projeccions-ficac-manolino-nguema.html
CLASS:PUBLIC
END:VEVENT
END:VCALENDAR
