BEGIN:VCALENDAR
VERSION:2.0
CALSCALE:GREGORIAN
PRODID:-//Diputació de Barcelona//DibaCMS//EN
BEGIN:VEVENT
UID:22226
DTSTAMP:20260423T111612
DTSTART:20231125T180000
DTEND:20231125T180000
SUMMARY:Recepció en solidaritat amb les víctimes de la violència masclista
LOCATION:Avinguda Pau Casals, 16 08755 Castellbisbal
METHOD:PUBLISH
X-WR-CALNAME:comunicacio@castellbisbal.cat
X-WR-TIMEZONE:Europe/Madrid
DESCRIPTION:A les 18.00 hores, a l'Espai Montserrat Roig d'Els Costals

URI:https://www.castellbisbal.cat/actualitat/agenda/recepcio-en-solidaritat-amb-les-victimes-de-la-violencia-masclista.html
CLASS:PUBLIC
END:VEVENT
END:VCALENDAR
