BEGIN:VCALENDAR
VERSION:2.0
CALSCALE:GREGORIAN
PRODID:-//Diputació de Barcelona//DibaCMS//EN
BEGIN:VEVENT
UID:22229
DTSTAMP:20260423T222808
DTSTART:20231126T120000
DTEND:20231126T120000
SUMMARY:XII Cursa/caminada contra la violència de gènere
LOCATION:Parc Folch i Torres 08755 Castellbisbal
METHOD:PUBLISH
X-WR-CALNAME:comunicacio@castellbisbal.cat
X-WR-TIMEZONE:Europe/Madrid
DESCRIPTION:Sortida a les 12.00 hores, des del Parc Folch i Torres

URI:https://www.castellbisbal.cat/actualitat/agenda/xii-cursacaminada-contra-la-violencia-de-genere.html
CLASS:PUBLIC
END:VEVENT
END:VCALENDAR
