BEGIN:VCALENDAR
VERSION:2.0
CALSCALE:GREGORIAN
PRODID:-//Diputació de Barcelona//DibaCMS//EN
BEGIN:VEVENT
UID:22230
DTSTAMP:20260424T001117
DTSTART:20231203T110000
DTEND:20231203T110000
SUMMARY:Celebrem les capacitats diverses
LOCATION:Av. de Pau Casals, 20 08755 Castellbisbal
METHOD:PUBLISH
X-WR-CALNAME:comunicacio@castellbisbal.cat
X-WR-TIMEZONE:Europe/Madrid
DESCRIPTION:A les 11.00 hores, al pavelló de l'Escola Montserrat

URI:https://www.castellbisbal.cat/actualitat/agenda/celebrem-les-capacitats-diverses.html
CLASS:PUBLIC
END:VEVENT
END:VCALENDAR
