BEGIN:VCALENDAR
VERSION:2.0
CALSCALE:GREGORIAN
PRODID:-//Diputació de Barcelona//DibaCMS//EN
BEGIN:VEVENT
UID:22239
DTSTAMP:20260424T232058
DTSTART:20231121T100000
DTEND:20231123T200000
SUMMARY:Tast d'aigues
LOCATION:Pl. Lluís Companys, 2 08755 Castellbisbal
METHOD:PUBLISH
X-WR-CALNAME:comunicacio@castellbisbal.cat
X-WR-TIMEZONE:Europe/Madrid
DESCRIPTION:Del 21 al 23 de novembre, al Punt Verd, en horari d'obertura

URI:https://www.castellbisbal.cat/actualitat/agenda/tast-daigues.html
CLASS:PUBLIC
END:VEVENT
END:VCALENDAR
