BEGIN:VCALENDAR
VERSION:2.0
CALSCALE:GREGORIAN
PRODID:-//Diputació de Barcelona//DibaCMS//EN
BEGIN:VEVENT
UID:22240
DTSTAMP:20260424T061658
DTSTART:20231124T170000
DTEND:20231124T170000
SUMMARY:Taller de creació de compreses reutilitzables
LOCATION:Pl. Lluís Companys, 2 08755 Castellbisbal
METHOD:PUBLISH
X-WR-CALNAME:comunicacio@castellbisbal.cat
X-WR-TIMEZONE:Europe/Madrid
DESCRIPTION:A les 17.00 hores, al Punt Verd

URI:https://www.castellbisbal.cat/actualitat/agenda/taller-de-creacio-de-compreses-reutilitzables.html
CLASS:PUBLIC
END:VEVENT
END:VCALENDAR
