BEGIN:VCALENDAR
VERSION:2.0
CALSCALE:GREGORIAN
PRODID:-//Diputació de Barcelona//DibaCMS//EN
BEGIN:VEVENT
UID:22247
DTSTAMP:20260423T093204
DTSTART:20231128T103000
DTEND:20231128T103000
SUMMARY:Camina per La Marató
LOCATION:Av. Pau Casals, 12 08755 Castellbisbal
METHOD:PUBLISH
X-WR-CALNAME:comunicacio@castellbisbal.cat
X-WR-TIMEZONE:Europe/Madrid
DESCRIPTION:A les 10.30 hores, davant l'entrada del CAP Doctor Joan Planas

URI:https://www.castellbisbal.cat/actualitat/agenda/camina-per-la-marato.html
CLASS:PUBLIC
END:VEVENT
END:VCALENDAR
