BEGIN:VCALENDAR
VERSION:2.0
CALSCALE:GREGORIAN
PRODID:-//Diputació de Barcelona//DibaCMS//EN
BEGIN:VEVENT
UID:22248
DTSTAMP:20260423T190113
DTSTART:20231129T173000
DTEND:20231129T173000
SUMMARY:Xerrada - taller: Saps que són les ITS?
LOCATION:Av. Pau Casals, 12 08755 Castellbisbal
METHOD:PUBLISH
X-WR-CALNAME:comunicacio@castellbisbal.cat
X-WR-TIMEZONE:Europe/Madrid
DESCRIPTION:A les 17.30 hores, al CAP Dr. Joan Planas

URI:https://www.castellbisbal.cat/actualitat/agenda/xerrada-taller-saps-que-son-les-its.html
CLASS:PUBLIC
END:VEVENT
END:VCALENDAR
