BEGIN:VCALENDAR
VERSION:2.0
CALSCALE:GREGORIAN
PRODID:-//Diputació de Barcelona//DibaCMS//EN
BEGIN:VEVENT
UID:22249
DTSTAMP:20260424T050929
DTSTART:20231204T173000
DTEND:20231204T173000
SUMMARY:Xerrada: Com tenir cura dels nostres pits?
LOCATION:Av. Pau Casals, 12 08755 Castellbisbal
METHOD:PUBLISH
X-WR-CALNAME:comunicacio@castellbisbal.cat
X-WR-TIMEZONE:Europe/Madrid
DESCRIPTION:A les 17.30 hores, al CAP Dr. Joan Planas

URI:https://www.castellbisbal.cat/actualitat/agenda/xerrada-com-tenir-cura-dels-nostres-pits.html
CLASS:PUBLIC
END:VEVENT
END:VCALENDAR
