BEGIN:VCALENDAR
VERSION:2.0
CALSCALE:GREGORIAN
PRODID:-//Diputació de Barcelona//DibaCMS//EN
BEGIN:VEVENT
UID:22255
DTSTAMP:20260424T205430
DTSTART:20231124T180000
DTEND:20231124T180000
SUMMARY:Fòrum Jove
LOCATION:
METHOD:PUBLISH
X-WR-CALNAME:comunicacio@castellbisbal.cat
X-WR-TIMEZONE:Europe/Madrid
DESCRIPTION:A les 18.00 hores, a la sala d'exposicions d'Els Costals (nova ubicació!)

URI:https://www.castellbisbal.cat/actualitat/agenda/22255-forum-jove.html
CLASS:PUBLIC
END:VEVENT
END:VCALENDAR
