BEGIN:VCALENDAR
VERSION:2.0
CALSCALE:GREGORIAN
PRODID:-//Diputació de Barcelona//DibaCMS//EN
BEGIN:VEVENT
UID:22259
DTSTAMP:20260424T234740
DTSTART:20231211T093000
DTEND:20231211T133000
SUMMARY:Paradeta solidària
LOCATION:Parc Folch i Torres 08755 Castellbisbal
METHOD:PUBLISH
X-WR-CALNAME:comunicacio@castellbisbal.cat
X-WR-TIMEZONE:Europe/Madrid
DESCRIPTION:Durant el matí, al mercat setmanal

URI:https://www.castellbisbal.cat/actualitat/agenda/22259-paradeta-solidaria.html
CLASS:PUBLIC
END:VEVENT
END:VCALENDAR
