BEGIN:VCALENDAR
VERSION:2.0
CALSCALE:GREGORIAN
PRODID:-//Diputació de Barcelona//DibaCMS//EN
BEGIN:VEVENT
UID:22275
DTSTAMP:20260424T050954
DTSTART:20231205T180000
DTEND:20231205T180000
SUMMARY:La història de Juan i Juana
LOCATION:Carrer Francesc Macià, 64 08755 Castellbisbal
METHOD:PUBLISH
X-WR-CALNAME:comunicacio@castellbisbal.cat
X-WR-TIMEZONE:Europe/Madrid
DESCRIPTION:De 18.00 a 19.00 hores, al Racó Jove

URI:https://www.castellbisbal.cat/actualitat/agenda/la-historia-de-juan-i-juana.html
CLASS:PUBLIC
END:VEVENT
END:VCALENDAR
