BEGIN:VCALENDAR
VERSION:2.0
CALSCALE:GREGORIAN
PRODID:-//Diputació de Barcelona//DibaCMS//EN
BEGIN:VEVENT
UID:22282
DTSTAMP:20260425T034802
DTSTART:20231222T173000
DTEND:20231222T173000
SUMMARY:Joc de taula
LOCATION:Carrer Francesc Macià, 64 08755 Castellbisbal
METHOD:PUBLISH
X-WR-CALNAME:comunicacio@castellbisbal.cat
X-WR-TIMEZONE:Europe/Madrid
DESCRIPTION:De 17.30 a 19.30 hores, al Racó Jove

URI:https://www.castellbisbal.cat/actualitat/agenda/joc-de-taula.html
CLASS:PUBLIC
END:VEVENT
END:VCALENDAR
