BEGIN:VCALENDAR
VERSION:2.0
CALSCALE:GREGORIAN
PRODID:-//Diputació de Barcelona//DibaCMS//EN
BEGIN:VEVENT
UID:22283
DTSTAMP:20260423T124020
DTSTART:20231229T173000
DTEND:20231229T173000
SUMMARY:Just Dance
LOCATION:Carrer Francesc Macià, 64 08755 Castellbisbal
METHOD:PUBLISH
X-WR-CALNAME:comunicacio@castellbisbal.cat
X-WR-TIMEZONE:Europe/Madrid
DESCRIPTION:De 17.30 a 19.30 hores, al Racó Jove

URI:https://www.castellbisbal.cat/actualitat/agenda/22283-just-dance.html
CLASS:PUBLIC
END:VEVENT
END:VCALENDAR
