BEGIN:VCALENDAR
VERSION:2.0
CALSCALE:GREGORIAN
PRODID:-//Diputació de Barcelona//DibaCMS//EN
BEGIN:VEVENT
UID:22290
DTSTAMP:20260424T223303
DTSTART:20231215T170000
DTEND:20240105T130000
SUMMARY:Trenet de Nadal
LOCATION:Plaça Lluís Companys 08755 Castellbisbal
METHOD:PUBLISH
X-WR-CALNAME:comunicacio@castellbisbal.cat
X-WR-TIMEZONE:Europe/Madrid
DESCRIPTION:Del 15 de desembre de 2023 al 5 de gener de 2024

URI:https://www.castellbisbal.cat/actualitat/agenda/22290-trenet-de-nadal.html
CLASS:PUBLIC
END:VEVENT
END:VCALENDAR
