BEGIN:VCALENDAR
VERSION:2.0
CALSCALE:GREGORIAN
PRODID:-//Diputació de Barcelona//DibaCMS//EN
BEGIN:VEVENT
UID:22297
DTSTAMP:20260425T044931
DTSTART:20231221T173000
DTEND:20231221T173000
SUMMARY:Taller creatiu: Picasso i el collage
LOCATION:Av. de Pau Casals, 16 08755 Castellbisbal
METHOD:PUBLISH
X-WR-CALNAME:comunicacio@castellbisbal.cat
X-WR-TIMEZONE:Europe/Madrid
DESCRIPTION:A les 17.30 hores, a la Biblioteca Josep Mateu i Miró

URI:https://www.castellbisbal.cat/actualitat/agenda/biblioteca/taller-creatiu-picasso-i-el-collage.html
CLASS:PUBLIC
END:VEVENT
END:VCALENDAR
