BEGIN:VCALENDAR
VERSION:2.0
CALSCALE:GREGORIAN
PRODID:-//Diputació de Barcelona//DibaCMS//EN
BEGIN:VEVENT
UID:22300
DTSTAMP:20260423T190448
DTSTART:20231226T200000
DTEND:20231226T200000
SUMMARY:Quinto de Sant Esteve
LOCATION:Av. de Pau Casals 7 08755 Castellbisbal
METHOD:PUBLISH
X-WR-CALNAME:comunicacio@castellbisbal.cat
X-WR-TIMEZONE:Europe/Madrid
DESCRIPTION:De 20.00 a 22.00 hores, al Casal Cultural i Recreatiu

URI:https://www.castellbisbal.cat/actualitat/agenda/22300-quinto-de-sant-esteve.html
CLASS:PUBLIC
END:VEVENT
END:VCALENDAR
