BEGIN:VCALENDAR
VERSION:2.0
CALSCALE:GREGORIAN
PRODID:-//Diputació de Barcelona//DibaCMS//EN
BEGIN:VEVENT
UID:22303
DTSTAMP:20260425T030844
DTSTART:20231215T180000
DTEND:20231215T180000
SUMMARY:Concert de Nadales
LOCATION:Plaça de l'Església 1 08755 Castellbisbal
METHOD:PUBLISH
X-WR-CALNAME:comunicacio@castellbisbal.cat
X-WR-TIMEZONE:Europe/Madrid
DESCRIPTION:A les 18.00 hores, a l'Església de Sant Vicenç

URI:https://www.castellbisbal.cat/actualitat/agenda/22303-concert-de-nadales.html
CLASS:PUBLIC
END:VEVENT
END:VCALENDAR
