BEGIN:VCALENDAR
VERSION:2.0
CALSCALE:GREGORIAN
PRODID:-//Diputació de Barcelona//DibaCMS//EN
BEGIN:VEVENT
UID:22304
DTSTAMP:20260423T204430
DTSTART:20231216T200000
DTEND:20231216T200000
SUMMARY:Festival de Nadales
LOCATION:Av. de Pau Casals 7 08755 Castellbisbal
METHOD:PUBLISH
X-WR-CALNAME:comunicacio@castellbisbal.cat
X-WR-TIMEZONE:Europe/Madrid
DESCRIPTION:A les 20.00 hores, al Casal Cultural i Recreatiu

URI:https://www.castellbisbal.cat/actualitat/agenda/22304-festival-de-nadales.html
CLASS:PUBLIC
END:VEVENT
END:VCALENDAR
